BEGIN:VCALENDAR
VERSION:2.0
PRODID:-//Chinese Medicine Education &amp; Supplies - ECPv6.15.20//NONSGML v1.0//EN
CALSCALE:GREGORIAN
METHOD:PUBLISH
X-WR-CALNAME:Chinese Medicine Education &amp; Supplies
X-ORIGINAL-URL:https://chinesemedicineeducation.com
X-WR-CALDESC:Events for Chinese Medicine Education &amp; Supplies
REFRESH-INTERVAL;VALUE=DURATION:PT1H
X-Robots-Tag:noindex
X-PUBLISHED-TTL:PT1H
BEGIN:VTIMEZONE
TZID:Australia/Sydney
BEGIN:STANDARD
TZOFFSETFROM:+1100
TZOFFSETTO:+1000
TZNAME:AEST
DTSTART:20230401T160000
END:STANDARD
BEGIN:DAYLIGHT
TZOFFSETFROM:+1000
TZOFFSETTO:+1100
TZNAME:AEDT
DTSTART:20230930T160000
END:DAYLIGHT
BEGIN:STANDARD
TZOFFSETFROM:+1100
TZOFFSETTO:+1000
TZNAME:AEST
DTSTART:20240406T160000
END:STANDARD
BEGIN:DAYLIGHT
TZOFFSETFROM:+1000
TZOFFSETTO:+1100
TZNAME:AEDT
DTSTART:20241005T160000
END:DAYLIGHT
BEGIN:STANDARD
TZOFFSETFROM:+1100
TZOFFSETTO:+1000
TZNAME:AEST
DTSTART:20250405T160000
END:STANDARD
BEGIN:DAYLIGHT
TZOFFSETFROM:+1000
TZOFFSETTO:+1100
TZNAME:AEDT
DTSTART:20251004T160000
END:DAYLIGHT
END:VTIMEZONE
BEGIN:VEVENT
DTSTART;TZID=Australia/Sydney:20241006T090000
DTEND;TZID=Australia/Sydney:20241006T120000
DTSTAMP:20260425T114701
CREATED:20240311T025000Z
LAST-MODIFIED:20240731T035639Z
UID:26865-1728205200-1728216000@chinesemedicineeducation.com
SUMMARY:LIVE ZOOM WEBINAR: Determining a Person's Ming (Destiny) Through Facial Diagnosis with CT Holman
DESCRIPTION:Register Now\n\nPresenting CT Holman\, author of Treating Emotional Trauma with Chinese Medicine: Integrated Diagnostic and Treatment Strategies\n\n\nRegister Now\nWebinar Description\nCourse Description: Ming can be defined as a person’s destiny. A person’s Ming can be identified utilizing facial diagnosis which can help guide a person in navigating their karma and determine their Golden Path. Golden Path is a term coined by Lillian Pearl Bridges that refers to a person’s Ming and their calling of the universe. \nIn this course\, CT Holman explains how to use Lillian’s face reading lineage to understand a person’s unique talents and abilities. He will share his experience of guiding patients in becoming more in tune with universal energy by identifying their Ming and helping them harmonize with the universal energy flow. He will discuss lifestyle and treatment strategies based on their Ming. When all these aspects are integrated\, optimal health abounds. Tailored for Chinese Medicine Practitioners and Acupuncturists\, this course intricately explores the ancient wisdom embedded in facial diagnosis to unveil a person’s destiny and guide them on the path to realizing their Ming. \nHe will also explain how identifying a patient’s pathology patterns provides clues to how they are out of balance with the universal qi flow. CT will include several patient pictures of their transformations. CT draws on his extensive studies under Lillian Bridges. \nWhat You Will Learn\n\nUnderstand the concept of Ming in relation to Chinese Medicine.\nLearn how to use the face to determine a person’s destiny.\nLearn how to guide a person in realizing their Ming.\n\n  \nCourse Outline\n\n\n\n\n\n\n\n\n\n\n\n\nElevate your practice as a Chinese Medicine Practitioner or Acupuncturist by delving into the profound interplay between Ming (destiny) and facial diagnosis. This course provides an in-depth exploration of how facial features serve as a gateway to understanding and guiding individuals in realizing their destined path within the framework of Chinese Medicine. \nCourse Highlights: \n\nIntroduction to Ming (0.5 Hour):\n\nUncover the philosophical foundations of Ming in Chinese Medicine\, exploring its significance in shaping an individual’s life journey.\nDiscuss historical perspectives and cultural context to deepen the participants’ appreciation for the role of Ming in holistic well-being.\nSet the stage for a comprehensive exploration of Ming through the lens of facial diagnosis.\n\n\nFacial Diagnosis for Determining Ming (1.5 Hours):\n\nImmerse yourself in the art of facial diagnosis as a key tool for unraveling the mysteries of Ming.\nAnalyze case studies that showcase practical applications of facial diagnosis in determining a patient’s Ming.\nEngage with visual aids\, including patient pictures\, to identify specific facial markers indicative of a person’s destiny.\n\n\nGuiding Realization of Ming (1.0 Hour):\n\nDelve into the nuances of guiding individuals on the path to realizing their Ming within the context of Chinese Medicine.\nExplore counseling techniques and therapeutic approaches grounded in Chinese Medicine principles.\nExamine patient pictures to identify and discuss practical strategies for aligning an individual’s life with their destined path.\n\n\nInteractive Ming Identification Sessions (Throughout):\n\nParticipate in live interactive sessions where participants practice identifying Ming through facial diagnosis.\nCollaborate with peers to share insights\, discuss challenges\, and refine skills in real-time.\nReceive personalized feedback and guidance from experienced instructors to enhance proficiency.\n\n\n\nBy the end of this course\, Chinese Medicine Practitioners and Acupuncturists will emerge equipped with a deepened understanding of Ming and practical skills in facial diagnosis for destiny realization. This transformative journey will empower participants to integrate these insights seamlessly into their practice\, fostering holistic well-being and alignment with one’s destined path. \n\n\n\n\n\n  \n\nAbout CT Holman\n \nCT Holman practices Chinese medicine in Salem\, Oregon. His fulltime clinic was founded in 2001. CT wrote the textbooks: Treating Emotional Trauma with Chinese Medicine and Shamanism in Chinese Medicine both published by Singing Dragon. He teaches courses internationally\, operates a mentorship program\, and is the Director of Development for the Lotus Institute of Lillian Pearl Bridges. He studied in China (1999\, 2001\, and 2003) and has extensive post-graduate education with several leading teachers in the field. \nCT has taught in Sweden\, Germany\, Mexico\, Denmark\, Australia\, and the US. He teaches at the Oregon College of Chinese Medicine for its doctoral program\, mentors masters and doctoral students\, and has been published in the Journal of Chinese Medicine. CT utilises drumming with acupuncture treatments and has recently recorded and released a CD\, Resonating Vitality – Chinese Medicine Drum Treatments. \n\nDetails\n\nDate: Sunday\, 6th of October 2024\nTime: 9am – 12pm (AEST)\nPricing: $245 for Practitioners\, $210 for Students (FULL TIME Undergraduates)\nCPD: 3 CPD Points\nNotes: Included\nVENUE: LIVE ONLINE COURSE- ZOOM LINK WILL BE PROVIDED CLOSER TO THE DATE\n\n  \nRegister Now\nThis is a live webinar conducted via the ZOOM VIDEO CONFERENCING Platform.  \nDisclaimer before registering for the Live Webinar\nPlease check the relevant date/time zone to your location in accordance with the date and time provided above. CME does not hold any responsibility for your non-attendance to the live event. Live webinars are best experienced via PC/desktop/laptop and tablets. CME expects webinar registrants to be familiar with Zoom videoconferencing software and are not responsible for any non-attendance due to technical or non-technical issues arising from the end of the registrant.
URL:https://chinesemedicineeducation.com/event/live-zoom-webinar-determining-a-persons-ming-destiny-through-facial-diagnosis/
LOCATION:Zoom Webinar
ATTACH;FMTTYPE=image/png:https://chinesemedicineeducation.com/wp-content/uploads/2024/03/Copy-of-UCMEAM-Course-2.png
ORGANIZER;CN="Chinese Medicine Education":MAILTO:info@chinesemedicineeducation.com
END:VEVENT
BEGIN:VEVENT
DTSTART;TZID=Australia/Sydney:20241012T093000
DTEND;TZID=Australia/Sydney:20241013T173000
DTSTAMP:20260425T114701
CREATED:20230317T060325Z
LAST-MODIFIED:20240823T054623Z
UID:23018-1728725400-1728840600@chinesemedicineeducation.com
SUMMARY:Ontake Warm Bamboo (Level 1): Rhythmic Moxibustion Methods from Japan to treat Root and Branch with Oran Kivity
DESCRIPTION:Register Now\n  \nCourse Outline\nIntroducing Ontake Warm Bamboo – a ground-breaking new moxibustion technique based on Doctor Manaka’s theory of Meridian Frequencies. Heated bamboo is applied on the skin rhythmically at specific frequencies of beats per minute\, according to the meridian affected. \nThis meridian frequency treatment brings about rapid changes in body condition and relieves pain fast. It will greatly enhance your clinical effectiveness and\, very importantly\, patients love it. The application of Ontake will deepen your palpation skills\, literally bringing you closer in touch with the channel system and broadening your understanding of its dynamic interrelationships. This workshop covers everything you need to know about the basics of loading\, lighting and applying bamboo treatment. \n  \nWhat You Will Learn\nDay 1\n\nIntroduction to Dr Manaka and his ideas\nRoot and Branch treatment in Japanese Acupuncture\nDr. Manaka’s Meridian Frequencies\, Wooden Needle and Hammer\, tapping zones\nLoading\, lighting and applying Ontake\nA non-pattern based root treatment\n\n  \nDay 2\n\nHolographic Thinking\nDr Tan’s concepts of body mirrors and images\nMeridian pairings and a simple Ontake matrix\nMatrix thinking and palpation: tension assessment\nChasing the pain\nDazhui DU 14 revisited\nClinical applications: Branch Treatments\nThe Goldilocks Zone: Dosage and overtreatment\n\n  \nBy the end of the course you will be able to:\n\nSystematically palpate the channels and note significant reactions\nLoad bamboo with moxa and light it safely\nPerform tapping\, touching and closing\, rolling\, standing\, rocking\, pressing\, leaning\, vibrating and knocking techniques with heated bamboo\nList and apply the frequencies for each meridian\nApply a whole body warm bamboo treatment to strengthen the root\nDescribe Japanese acupuncture concepts of dosage and recognise sensitive patients\nRemedy overtreatment using Ontake\nTreat pain: select treatment channels according to the Ontake matrix and different holographic images of the body on the arms and legs\nApply warm bamboo to treat a broad range of conditions including headache\, neck pain\, back pain\, knee pain\, constipation\, diarrhoea\, stress\, depression and anxiety.\n\n  \nAbout Oran Kivity\n \nVeteran British acupuncturist Oran Kivity trained in Europe\, China\, and Japan. In continuous practice since 1987\, he specialised in Japanese methods and was a founder member of Toyohari UK\, the British branch of the Toyohari Association of Japan. He taught acupuncture at the University of Westminster and the Northern College of Acupuncture for ten years. Oran is the author of four books about Japanese acupuncture and moxibustion\, including the popular Hirata Zone Therapy with the Ontake Method and Moxa in Motion with the Ontake Method: Rhythmic Moxibustion Methods from Japan for Mind-Body Healing. Passionate about acupuncture and learning\, he continues to teach internationally and has a successful habit coaching practice online\, working with practitioners all over the world to develop their practices. Now based in Taiwan\, he practises\, writes\, coaches and teaches from the southern port town of Kaohsiung\, where he lives happily by a river\, near a lake and close to the sea. \n  \n\nBooks By Oran Kivity\n      \n  \nDetails\nDate: 12th October 2024 – 13th October 2024\nTime: 9.30am – 5.30pm\nCPD: 13.5 CPD Points (Interactive)\nVenue: The Ministry Centre\, St Colomb’s Anglican Church\, 23 Victoria St\, CLAYFIELD QLD\nNotes: Included \n  \nDEPOSIT\n$200 to secure spot – full payment made 1 month before the seminar.\n\nEARLY BIRD SPECIAL (offer ends 8th September 2024)*\nPractitioner Rate: $795\nStudent (Full Time – Undergraduate): $695 \nREGULAR PRICING\nPractitioner Rate: $895\nStudent (Full Time – Undergraduate): $795 \nTerms and Conditions\n*Early Bird: Full payment is required 4 weeks prior to the event.\n*Registrations cancelled up to one week prior to the seminar will be refunded less 20%. We regret that refunds are not otherwise possible. \n  \nRegister Now
URL:https://chinesemedicineeducation.com/event/ontake-warm-bamboo-level-1-rhythmic-moxibustion-methods-from-japan-to-treat-root-and-branch-with-oran-kivity/
ATTACH;FMTTYPE=image/png:https://chinesemedicineeducation.com/wp-content/uploads/2023/03/Ontake-Warm-Bamboo-Level-1-Event.png
ORGANIZER;CN="China Books Sydney":MAILTO:info@chinabookssydney.com.au
END:VEVENT
BEGIN:VEVENT
DTSTART;TZID=Australia/Sydney:20241015T093000
DTEND;TZID=Australia/Sydney:20241015T173000
DTSTAMP:20260425T114701
CREATED:20240215T023457Z
LAST-MODIFIED:20240823T054659Z
UID:26603-1728984600-1729013400@chinesemedicineeducation.com
SUMMARY:Hirata Zone Therapy with the Ontake Method (Level 2) with Oran Kivity
DESCRIPTION:Register Now\n  \nCourse Outline\nIntroducing Hirata Zone Therapy—a holographic Japanese moxibustion system from the 1930s based on the teachings of Kurakichi Hirata. Heated bamboo is applied rhythmically on the skin to trigger the body’s self-healing mechanisms. \nHirata’s primary goal was to create a system that was easy for patients to learn and apply on themselves. Eighty years after his death\, this method has become far more accessible with the application of a contemporary moxa device—Ontake Warm Bamboo\, a piece of bamboo filled with burning moxa wool. \n  \nWhat You Will Learn\nThis one-day workshop includes lectures\, demonstrations and practice. It covers everything you need to know to find Hirata’s zones on the body and apply Ontake to treat a variety of conditions. Topics covered include: \n\nIntroduction to Hirata and his ideas\nThe twelve zones in the six regions\nDr Manaka’s Meridian Frequencies\nZone selection and treatment\nBamboo Mini – working the back and waking up the immune system\nDosage\n\n  \nBy the end of the course you will be able to: \n\nLocate the Hirata zones and note significant reactions\nPerform a variety of techniques with Ontake including tapping\, rolling\, standing\, pressing\, vibrating and superknocking\nList and apply the frequencies for each zone\nApply a whole-body warm bamboo treatment to treat an organ system\nDescribe Japanese acupuncture concepts of dosage\nRemedy overtreatment using Ontake\nGet patients started with daily home treatment\n\n  \n*NB: Completion of Level 1 is required to undertake Level 2 \nLevel 1 tickets can be purchased here: https://chinesemedicineeducation.com/product/ontake-warm-bamboo-level-1-rhythmic-moxibustion-methods-from-japan-to-treat-root-and-branch-with-oran-kivity/ \n  \nAbout Oran Kivity\n \nVeteran British acupuncturist Oran Kivity trained in Europe\, China\, and Japan. In continuous practice since 1987\, he specialised in Japanese methods and was a founder member of Toyohari UK\, the British branch of the Toyohari Association of Japan. He taught acupuncture at the University of Westminster and the Northern College of Acupuncture for ten years. Oran is the author of four books about Japanese acupuncture and moxibustion\, including the popular Hirata Zone Therapy with the Ontake Method and Moxa in Motion with the Ontake Method: Rhythmic Moxibustion Methods from Japan for Mind-Body Healing. Passionate about acupuncture and learning\, he continues to teach internationally and has a successful habit coaching practice online\, working with practitioners all over the world to develop their practices. Now based in Taiwan\, he practises\, writes\, coaches and teaches from the southern port town of Kaohsiung\, where he lives happily by a river\, near a lake and close to the sea. \n  \n\nBooks By Oran Kivity\n      \n\nDetails\nDate: 15th October 2024\nTime: 9.30am – 5.30pm\nCPD: 5.5 CPD Points (Interactive)\nVenue: The Ministry Centre\, St Colomb’s Anglican Church\, 23 Victoria St\, CLAYFIELD QLD\nNotes: Included \nEARLY BIRD SPECIAL\nPractitioner Rate: $395\nStudent (Full Time – Undergraduate): $345 \nREGULAR PRICING\nPractitioner Rate: $445\nStudent (Full Time – Undergraduate): $395 \nTerms and Conditions\n*Early Bird: Full payment is required 4 weeks prior to the event.\n*Registrations cancelled up to one week prior to the seminar will be refunded less 20%. We regret that refunds are not otherwise possible. \n  \nRegister Now
URL:https://chinesemedicineeducation.com/event/hirata-zone-therapy-with-the-ontake-method-level-2-with-oran-kivity/
ATTACH;FMTTYPE=image/png:https://chinesemedicineeducation.com/wp-content/uploads/2024/02/Ontake-Warm-Bamboo-Event.png
ORGANIZER;CN="China Books Sydney":MAILTO:info@chinabookssydney.com.au
END:VEVENT
BEGIN:VEVENT
DTSTART;TZID=Australia/Sydney:20241017T090000
DTEND;TZID=Australia/Sydney:20241020T180000
DTSTAMP:20260425T114701
CREATED:20240625T003419Z
LAST-MODIFIED:20240911T062915Z
UID:27756-1729155600-1729447200@chinesemedicineeducation.com
SUMMARY:Comprehensive Tung's Acupuncture Intensive with Henry McCann
DESCRIPTION:Register Now \n \nCOURSE OVERVIEW\nTung’s Acupuncture is an effective method of mostly distant point acupuncture that today is popular around the world. It is also flexible\, equally capable of treating pain management cases and internal medicine. Tung’s Acupuncture achieves this by combining an understanding of channel theory\, microsystem and holographic thinking\, and an attention to point location and needling variations. Combined together studying Tung’s approach also enhances one’s practice of other acupuncture systems. \nBy now most acupuncturists have heard of Tung’s system and online classes are plentiful\, but over time full in-person training in the fundamentals of the system are fewer and fewer. This means we have more and more Tung practitioners who apply rigid point prescriptions without understanding important principles\, and without having had in-person training in needling and point location. In this course we will cover all the core basic theory of the system\, and systematically go through and cover all the main points with hands-on point location practice. Join us and learn or re-learn Tung’s in-person\, as acupuncture should ideally be taught! \nTopics Covered Include: \n\nAn overview of channel\, microsystem\, and body tissue theory in acupuncture\nTung’s approach to 5 Phase and 5 Zang organ treatment\nAll of Tung’s main points\, including locations and indications\nBloodletting in the Tung tradition\nHands-on point location practice\nSpecial needling methods and strategies\nThe treatment of commonly seen conditions in the clinic\n\n  \nCOURSE OUTLINE\n\n					DAY 1 \n9am – 10am Introduction to Tung’s acupuncture \n10am – 12pm Core theory (zonal concepts; holographic\, channel and tissue correspondences; etc… ) \nLUNCH \n1pm – 2:30pm Points in Zone 1 (location\, indications) \n2:30pm – 3pm Point location practice \n3pm – 4:30pm Points in Zone 1 (continued); discussion of Zone 1 microsystem \n4:30 – 5pm Point location practice \n5pm – 5:30pm Points in Zone 2 (location\, indications) \n  \nDAY 2 \n9am – 10am Needle methods and strategies\, overview of Dao Ma needling \n10am – 11:30am Points in Zone 2 (continued) \n11:30 – 12pm Point location practice \nLUNCH \n1pm – 2:30pm Points in Zone 3 (location\, indications) \n2:30pm – 3pm Point location practice \n3pm – 4:30pm Points in Zone 4 & 5 \n4:30 – 5pm Point location practice \n5pm – 5:30pm Review of Five Phase Theory and application in acupuncture points \n  \nDAY 3 \n9am – 10am Organ Root Treatment in Tung’s Acupuncture \n10am – 11:30am Points in Zone 6 \n11:30 – 12:30pm Point in Zone 7 \nLUNCH \n1:30pm – 2:30pm Points in Zone 7 (continued) \n2:30pm – 3pm Point location practice \n3pm – 4:00pm Points in Zone 8 \n4pm – 5pm Points in Zone 9 & 10 \n5pm – 5:30pm Review\, location practice\, wrap-up \n  \nDAY 4 \n9am – 10am Introduction to the theory and history of bloodletting \n10am – 11am Bloodletting materials and methods \n11am – 12pm Safety Concerns and Clean Technique Review \nLUNCH \n1pm – 2:30pm Bloodletting points in Tung’s acupuncture \n2:30pm – 4:30pm Bleeding point zones in Tung’s Acupuncture \n4:30 – 5:30pm Hands-on practice \n  \nNOTE: Morning and afternoon tea breaks will also be scheduled on each of the days. \nRegister Now \nRECOMMENDED TEXTBOOK\n \nHenry has highly recommended attendees for this workshop also have a copy of his textbook “Practical Atlas Of Tung’s Acupuncture“. There is a lot more detail and points in here than he can cover in his slides and handouts alone. Click the image above to order your copy. \n  \nABOUT HENRY MCCANN\n \nDr. Henry McCann is a licensed practitioner of East Asian Medicine with a clinical practice in Madison\, NJ. He is on the faculty of the Pacific College of Health and Science\, and teaches at advanced practice doctoral degrees for the Oregon College of Oriental Medicine\, Bastyr University\, and several others in the United States. Dr. McCann has taught Tung’s Acupuncture and bloodletting therapy throughout the United States\, Europe\, Australia\, and Asia. He is the author of A Practice Atlas of Tung’s Acupuncture (with Dr. Hans-Georg Ross)\, Pricking the Vessels: Bloodletting in Chinese Medicine\, numerous articles in Chinese medicine journals\, and a blog on his website\, www.asianmedidcine.org. \n  \nDETAILS\nDate: Thursday 17th to Sunday 20th October 2024\nTime: 9am – 5:30pm daily\nVenue: Vibe Hotel\, 111 Goulbourn St\, Sydney 2000\nCPD: 26 CPD Points\nIncluded: Notes\, needles for practice\, morning & afternoon tea \n  \nPRICING\n\nDeposit: $300 \nEARLY BIRD RATE\nPractitioner: $1\,650\nStudent (Full Time – Undergraduate): $1\,450\n**Ends 18th of September 2024 EXTENDED UNTIL OCTOBER 1ST \nREGULAR RATE\nPractitioner: $1\,850\nStudent (Full Time – Undergraduate): $1\,550 \n\n\nTerms and Conditions\n*Early Bird: Full payment is required 4 weeks prior to the start of the Seminar and Workshop\n*Registrations cancelled up to two weeks prior to the seminar will be refunded less 20%. We regret that refunds are not otherwise possible. \nRegister Now
URL:https://chinesemedicineeducation.com/event/comprehensive-tungs-acupuncture-intensive-with-henry-mccann/
LOCATION:Vibe Hotel\, 111 Goulburn Street\, Sydney\, NSW\, 2000\, Australia
ATTACH;FMTTYPE=image/png:https://chinesemedicineeducation.com/wp-content/uploads/2024/06/comprehensive-Event.png
ORGANIZER;CN="China Books Sydney":MAILTO:info@chinabookssydney.com.au
END:VEVENT
END:VCALENDAR