BEGIN:VCALENDAR
VERSION:2.0
PRODID:-//Chinese Medicine Education &amp; Supplies - ECPv6.15.20//NONSGML v1.0//EN
CALSCALE:GREGORIAN
METHOD:PUBLISH
X-ORIGINAL-URL:https://chinesemedicineeducation.com
X-WR-CALDESC:Events for Chinese Medicine Education &amp; Supplies
REFRESH-INTERVAL;VALUE=DURATION:PT1H
X-Robots-Tag:noindex
X-PUBLISHED-TTL:PT1H
BEGIN:VTIMEZONE
TZID:Australia/Sydney
BEGIN:STANDARD
TZOFFSETFROM:+1100
TZOFFSETTO:+1000
TZNAME:AEST
DTSTART:20230401T160000
END:STANDARD
BEGIN:DAYLIGHT
TZOFFSETFROM:+1000
TZOFFSETTO:+1100
TZNAME:AEDT
DTSTART:20230930T160000
END:DAYLIGHT
BEGIN:STANDARD
TZOFFSETFROM:+1100
TZOFFSETTO:+1000
TZNAME:AEST
DTSTART:20240406T160000
END:STANDARD
BEGIN:DAYLIGHT
TZOFFSETFROM:+1000
TZOFFSETTO:+1100
TZNAME:AEDT
DTSTART:20241005T160000
END:DAYLIGHT
BEGIN:STANDARD
TZOFFSETFROM:+1100
TZOFFSETTO:+1000
TZNAME:AEST
DTSTART:20250405T160000
END:STANDARD
BEGIN:DAYLIGHT
TZOFFSETFROM:+1000
TZOFFSETTO:+1100
TZNAME:AEDT
DTSTART:20251004T160000
END:DAYLIGHT
END:VTIMEZONE
BEGIN:VEVENT
DTSTART;TZID=Australia/Sydney:20240920T083000
DTEND;TZID=Australia/Sydney:20240923T173000
DTSTAMP:20260425T131621
CREATED:20240304T034910Z
LAST-MODIFIED:20240311T000900Z
UID:26801-1726821000-1727112600@chinesemedicineeducation.com
SUMMARY:LIVE WORKSHOP: Shen-Hammer Pulse Diagnosis Workshop with Dr. Karen Bilton (PhD)
DESCRIPTION:Register Now\nShen-Hammer Pulse Diagnosis Foundations Workshop with Dr. Karen Bilton (PhD) \nSponsored by China Books Sydney and Chinese Medicine Education\n\nUnderstand the pulse in ways you’ve never imagined\nDiagnose complex patients with confidence\nUncover signs of past adverse events – gestational\, birth and life and their influence on present and future health\nDiscover the profound skill of Shen-Hammer Pulse Diagnosis\n\n  \nWhat Will You Learn\n\nLearn the entire Shen-Hammer pulse system and be provided with a framework for your skill to grow.\n​Understand the implications of alterations from a normal resting and exertion heart rate often indicate more far-reaching conditions than heat and cold.\n​Decipher psycho-emotional pulse signs to understand how to establish better connections and more effective communication with your clients. \n​Harness the power of the pulse to refine your skill in interpreting the signs that portray your clients’ physiology.\n​Leverage this acquired knowledge and integrate it into your preferred theoretical model and existing style of practice\, be it zang/fu\, classical\, or the five-element system.\nFeel confident in your ability to merge the information from the pulse with other diagnostic information to improve your treatment outcomes with acupuncture and Chinese herbal medicine.\n\n  \n\n\n\nFoundations Classes\nExpand your diagnostic skills learning the Shen-Hammer pulse method.\nLearn to palpate the 3 main Depths of the pulse and the 6 Waveforms \nLocate the 6 Principal and 22 Complementary pulse positions \nIdentify pulse qualities according to condition and \n\nVolume\,\nDepth\,\nWidth\,\nLength\,\nShape\,\nAnomalous\,\nQualifying parameters\n\nAbility to take a full pulse evaluation \nLearn to interpret psycho-emotional signs on the pulse \nLearn to interpret your findings on the pulse according to the \n\n6 conformations and/or\nZang fu patterns\n\nIntegrate this and apply this information according to your style of practice \nDiscuss concepts of this lineage – \n\nHeart Shock relating to trauma – birth\, childhood and recent\nToxicity and retained pathogens\nDr Shen’s Systems\n\nParticipate in a case study discussion with recommendations for patient management \n\nAcupuncture\nFormulas\nLifestyle\nReferrals\n\nAt least 50% hands on learning \nRepeated calibration for depths throughout the class \nExperienced teaching assistants support hands on experience of all students \n\nTo see the detailed course schedule\, click here: Foundations Content Schedule \n\nRegister Now\nWhat is Shen-Hammer Pulse Diagnosis?\nThe Shen-Hammer Pulse Diagnosis is the modern interpretation of the c.15th Century Menghe Ding Lineage method from the Shanghai region of China. Ding Jiwan (grandson of Ding Ganren of Wen Bing fame) taught this method to Dr. Shen in Shanghai and then Hong Kong during the turbulent years of 1937-1942. Dr. Shen as the sole survivor of World War 2 with knowledge of the pulse method\, fled the Communist Revolution in China for the USA. \n​Dr. Hammer\, a renowned practitioner\, first encountered Dr. Shen’s exceptional diagnostic skills in a Chinatown clinic in New York City during the early 1970s. This serendipitous meeting led to an eight-year apprenticeship for Dr. Hammer under Dr. Shen’s guidance\, and their collaboration spanned thirty years\, during which they recorded and refined the Menghe pulse method. \nThe Shen-Hammer Pulse method has evolved from Classical Chinese medicine theory. It recognizes that the range of energy transformations within a human body reflects the infinite combination of spatial and temporal energy possibilities in the macrocosm. The pulse carries information encoded within it\, representing the physiological exchanges specific to that individual organism. \nPalpating the radial artery allows us to decipher these exchanges and provides rich and extensive diagnostic information. The pulse describes the inherited life of a person\, their current state of being\, and can indicate possible health trajectories for the future. \nOnce the information encoded in the pulse is deciphered\, it guides the practitioner to skillfully implement management strategies. These strategies may include acupuncture\, Chinese herbs\, and lifestyle modifications to positively impact the physical and psycho-emotional potential of the clients.​ \nThe Shen-Hammer Pulse method is a refined and comprehensive approach to pulse diagnosis that draws upon ancient Chinese medicine theory. It allows practitioners to gain valuable insights into their clients’ health and guide them towards appropriate treatment strategies to enhance their well-being. \n  \n\n             \n\n\n\nAbout Dr. Karen Bilton (PhD)\nKaren started her career in healthcare as a physiotherapist. She has been practising acupuncture and Chinese medicine for 28 years and is licensed to practise in Australia and the USA. Having worked in the USA for 15 years she has been studying with Dr Leon Hammer\, MD since 1997. She completed doctoral studies evaluating the reliability of practitioners applying Shen-Hammer Pulse Diagnosis clinically. Karen is one of a handful of people who inherited this pulse method and model of developmental psychological model directly from Dr Hammer. \nShe is co-author of a Handbook of Contemporary Chinese Pulse Diagnosis; taught Shen-Hammer Pulse Diagnosis classes as well as presented at conferences in China\, USA\, Australia\, and New Zealand; and has published her work in peer review journals. Karen having lectured at respected institutions like Pacific College of Oriental Medicine\, New York City; the University of Technology\, Sydney; and the University of Western Sydney; is further testament to her academic excellence and contribution to Chinese medicine. \nCurrently she is in clinical practice in Sydney\, Australia\, and continues her exploration of acupuncture\, Chinese herbal medicine in relation to Daoist cosmology.  She endeavours to share her knowledge teaching classes in pulse diagnosis and the psychology of Dragon Rises\, Red Bird Flies. \n\n\n\nRegister Now\nDetails\n\nDates: 20th of September to 23rd of September 2024\nTime: 8.30am – 5.30pm\nLocation:  College of Complementary Medicine – Level 6/128-134 Chalmers Street\, Surry Hills\, NSW\, 2010\, Opposite Central Railway Station\nPricing:\n\nPay Deposit: $250* (incl. GST)\nEarly Bird Discount: $1760 (incl GST)  *Early Bird Pricing until 3rd of April 2024\nFull Rate: $2090 (incl GST)\nReturning Students: $1250 (incl GST)\n\n\nPrerequisites: None\nCPD: 30 Points\nApproved AACMA\, ACUNZ\, NCCAOM (USA)\nACCMA PDA course certification in progress\nAttendance at all days required for PDAs awar ded\n\n  \n\n\n\nTerms and Conditions\n*Early Bird: Full payment is required 4 weeks prior to the start of the Workshop.\n*Registrations cancelled up to one week prior to the seminar will be refunded less 20%. We regret that refunds are not otherwise possible. \nRegister Now
URL:https://chinesemedicineeducation.com/event/live-workshop-shen-hammer-pulse-diagnosis-workshop-with-dr-karen-bilton-phd-2/
LOCATION:College of Complementary Medicine\, Level 6/128-134 Chalmers Street\, Surry Hills\, NSW\, 2010\, Australia
ATTACH;FMTTYPE=image/png:https://chinesemedicineeducation.com/wp-content/uploads/2024/03/Copy-of-Shen-Hammer-Pulse-Diagnosis-Foundations-Workshop-Event.png
END:VEVENT
END:VCALENDAR