BEGIN:VCALENDAR
VERSION:2.0
PRODID:-//Chinese Medicine Education &amp; Supplies - ECPv6.15.20//NONSGML v1.0//EN
CALSCALE:GREGORIAN
METHOD:PUBLISH
X-WR-CALNAME:Chinese Medicine Education &amp; Supplies
X-ORIGINAL-URL:https://chinesemedicineeducation.com
X-WR-CALDESC:Events for Chinese Medicine Education &amp; Supplies
REFRESH-INTERVAL;VALUE=DURATION:PT1H
X-Robots-Tag:noindex
X-PUBLISHED-TTL:PT1H
BEGIN:VTIMEZONE
TZID:Australia/Sydney
BEGIN:STANDARD
TZOFFSETFROM:+1100
TZOFFSETTO:+1000
TZNAME:AEST
DTSTART:20230401T160000
END:STANDARD
BEGIN:DAYLIGHT
TZOFFSETFROM:+1000
TZOFFSETTO:+1100
TZNAME:AEDT
DTSTART:20230930T160000
END:DAYLIGHT
BEGIN:STANDARD
TZOFFSETFROM:+1100
TZOFFSETTO:+1000
TZNAME:AEST
DTSTART:20240406T160000
END:STANDARD
BEGIN:DAYLIGHT
TZOFFSETFROM:+1000
TZOFFSETTO:+1100
TZNAME:AEDT
DTSTART:20241005T160000
END:DAYLIGHT
BEGIN:STANDARD
TZOFFSETFROM:+1100
TZOFFSETTO:+1000
TZNAME:AEST
DTSTART:20250405T160000
END:STANDARD
BEGIN:DAYLIGHT
TZOFFSETFROM:+1000
TZOFFSETTO:+1100
TZNAME:AEDT
DTSTART:20251004T160000
END:DAYLIGHT
END:VTIMEZONE
BEGIN:VEVENT
DTSTART;TZID=Australia/Sydney:20240202T093000
DTEND;TZID=Australia/Sydney:20240204T173000
DTSTAMP:20260426T024716
CREATED:20230629T060142Z
LAST-MODIFIED:20240129T031659Z
UID:24522-1706866200-1707067800@chinesemedicineeducation.com
SUMMARY:Advanced Facial Acupuncture Certification: Advanced Applications of Anti-Aging Cosmetic Acupuncture Theory and Techniques with Michelle Gellis
DESCRIPTION:Register Now\n3 Day Live Facial Needling Workshop\nMichelle Gellis is a renowned acupuncturist who not only performs the ancient art of facial acupuncture\, she also teaches acupuncture facial rejuvenation classes to acupuncturists across the nation. \nCourse Description:\nDiscover the transformative power of Facial Rejuvenation Acupuncture\, an ancient practice that offers a gentle\, effective\, and safe approach to combat the signs of aging and rejuvenate your face naturally. This course delves into the benefits of acupuncture for revitalizing the skin\, building collagen\, toning muscles\, improving circulation\, and stimulating blood flow. Unlike surgical procedures or injections\, Facial Rejuvenation Acupuncture carries no risks of scars\, infections\, rashes\, or chemical buildup. \nBeyond its cosmetic effects\, Facial Rejuvenation Acupuncture works holistically by shifting the energy flow within the body\, initiating a process of constitutional rejuvenation. Chinese medicine teaches us that health radiates from the inside out\, and this holistic approach not only erases frown lines but also improves overall well-being\, sleep quality\, energy levels\, and digestion. As we age\, the muscles in our face lose tone and mass\, leading to sagging\, deep wrinkles\, and a tired appearance. Through acupuncture\, muscle function is stimulated\, allowing the face to lift itself naturally via targeted acupuncture points. This results in a healthier\, revitalized\, and more youthful appearance. \nIn this course\, you will learn specific techniques employed by Michelle\, an expert practitioner\, who has achieved incredible results\, as demonstrated in the accompanying photos below. The course covers the placement of acupuncture needles on the face\, including specific points which are noted to have the highest efficacy and wrinkle areas. The micro trauma caused by needles in the wrinkles stimulates collagen production\, further enhancing the rejuvenating effects. \nJoin us to unlock the secrets of Facial Rejuvenation Acupuncture and acquire the skills to help your clients achieve remarkable results. Embrace the holistic approach to anti-aging and experience the natural transformation that extends beyond the surface of the skin. \n\n					A series of Acupuncture Facial Rejuvenation Treatments Can: \n\nErase fine lines\, deeper wrinkles diminished\nLift sagging eye lids\, reduce bags/circles\nFirm jowls and minimize double chin\nImprove muscle tone and increase collagen production\nEliminate puffiness by improving metabolism and eliminating excess fluids\nImprove hormonal balance\, benefits acne\nIncrease circulation of blood and lymph to the face and improves facial color\nMoisturize the skin and tighten pores\nSignificantly reduce the appearance of scars and age spots\nSlow the aging process from within\nReduce stress evident in the face\nPromote overall health and well being\n\n  \nThese photos demonstrate the effects of facial acupuncture. \n         \nBefore Treatment      After Treatment \n\nRoseacea treated on right side of face \n \nWorkshop Outline\n \n  \nSeminar Schedule\n\n					Day One\nWill cover Module 1 and 2 of the Facial Acupuncture Certification Program- Which is the online program on Michelle’s website but will be delivered in person during the seminar. \n\n\nModule 1:  – 2.5 hours \n\nPatient Intake\, Diagnosis\, Contraindications\nLive Demonstration\nGroup Practical and Assessment\n\n\n\n \n\n\nModule 2:  – 3.5 hours \n\nTheory\, Protocols\nLive Demonstration\nGroup Practical and Assessment\n\n\n\n\n\n					Day Two\nHands-on days start with a review\, Q&A and demo\, with the majority of the day devoted to practice. \nModule 3: – 6-7 hours \nIntermediate and Advanced Facial Needling/Cosmetic Needling Techniques Demonstration and Practice – \n\nOn the second day\, review and practice cover the following and review prior information and practice\nCosmetic Acupuncture\nAdvanced Facial Acupuncture Techniques\nLive Demonstration\nGroup Practical and Assessment\n\n\n					Day Three \nHands-on days start with a review\, Q&A and demo\, with the majority of the day devoted to practice. \nModule 4: – 3.5 hours \n\nFacial Rejuvenation Cupping & Gua Sha\nContraindications & Precautions\nTheory & Techniques\nGroup Practical and Assessment\nPLEASE NOTE: To practice cupping\, gua sha- you MUST use Michelle’s approved tools for quality control reasons.\n*You will need to bring your own if you already own a set or purchase in advance from this link here – Aculift Cupping and Gua Sha Facial Rejuvenation Kit\n\n \nModule 5: – 5 hours \n\nAdvanced Techniques and Protocols in Facial Acupuncture\nAdvanced Cosmetic Techniques\nFacial Motor Points\nSubmusucular Needling\nScalp Acupuncture\n\n  \nOPTIONAL Module: 1.5 HOUR MICRONEEDLING Demonstration only\n(*This course is not a practical and only a demonstration by Michelle on how to use Her Microsystem pen and why it works to augment cosmetic acupuncture treatment- a webinar available on michelle’s platform will be free access with the purchase of the micropen system on the day of the seminar of prior to the seminar at this link here) \nIn this optional component of this incredible three day workshop with Michelle. Michelle will be taking students through: \n\nHow to use the Aculift micropen and for what conditions\nWhere to needle on the face and how for the best effect\nUsing the correct settings for what conditions – frequency and intensity of the pen (effects)\nWhat to do and what not to do\nProducts which support microneedle pen use\n\nPurchase the Aculift Micropen System here prior to the in-person demonstration.  \n \n  \nRegister Now\nAbout Michelle Gellis (AP\, LAc\, MAc\, DiplAc)\n \nMichelle Gellis is a Licensed and Board Certified Acupuncture Physician. She has been a Faculty Member and Clinic Supervisor at the Maryland University of Integrative Health (formally the Tai Sophia Institute) since 2004. Michelle Gellis holds a Bachelor of Science Degree from Seton Hall University School of Business in Computer Science\, and a Master of Science Degree in Acupuncture from the Traditional Acupuncture Institute. Ms Gellis holds the distinction of being one of the very few acupuncturists in the country certified to teach acupuncture facial rejuvenation — also known as cosmetic acupuncture — certification classes on a national level to other acupuncturists. In addition to acupuncture facial rejuvenation\, Michelle teaches classes on facial cupping\, gua sha and treating neuromuscular facial conditions such as Stroke\, Multiple Sclerosis \, Trigeminal Neuralgia\, TMJ\, and Bells Palsy with acupuncture. She has been published in The Journal of Chinese Medicine\, Acupuncture Today\, the Maryland Acupuncture Society Newsletter\, The Acupuncture Desk Reference as well as featured in Her Mind Magazine\, Howard County Business News and Be Well World Magazine. \n\n					Details\n\nDate: Friday 2nd of February 2024 – Sunday 4th February 2024\nTime: 9.30am – 5.30pm (on all 3 days)\nVenue: The Vibe Hotel – 111 Goulburn St\, Sydney NSW\nCPD: 21 CPD Points\nNotes\, Morning Tea\, Afternoon Tea: Included\n\n  \nEARLY BIRD SPECIAL (offer ended 26/01/2024) \nPractitioner Rate: $1600\nStudent (Full Time – Undergraduate): $1350 \nREGULAR PRICING\nPractitioner Rate: $1900\nStudent (Full Time – Undergraduate): $1700 \nTerms and Conditions\n*Early Bird: Full payment is required 4 weeks prior to the start of the Seminar and Workshop\n*Registrations cancelled up to two weeks prior to the seminar will be refunded less 20% (admin fee). We regret that refunds are not otherwise possible. \nRECORDING\nIf you wish to purchase for the recording only\, please contact us to register your name. We will inform you that it will be available to purchase once it is ready. Please allow 3-4 weeks after the live seminar end date for the recording to be released. \nRecording (Revisit) Access Fee for live participants and recording purchase – 5 years: $99\nRegister Now
URL:https://chinesemedicineeducation.com/event/advanced-anti-aging-facial-acupuncture-certification-practical-applications-of-facial-cosmetic-acupuncture-theory-and-techniques-with-michelle-gellis/
ATTACH;FMTTYPE=image/png:https://chinesemedicineeducation.com/wp-content/uploads/2023/06/Copy-of-PAAA-Course-1.png
ORGANIZER;CN="China Books Sydney":MAILTO:info@chinabookssydney.com.au
END:VEVENT
END:VCALENDAR