BEGIN:VCALENDAR
VERSION:2.0
PRODID:-//Chinese Medicine Education &amp; Supplies - ECPv6.15.20//NONSGML v1.0//EN
CALSCALE:GREGORIAN
METHOD:PUBLISH
X-WR-CALNAME:Chinese Medicine Education &amp; Supplies
X-ORIGINAL-URL:https://chinesemedicineeducation.com
X-WR-CALDESC:Events for Chinese Medicine Education &amp; Supplies
REFRESH-INTERVAL;VALUE=DURATION:PT1H
X-Robots-Tag:noindex
X-PUBLISHED-TTL:PT1H
BEGIN:VTIMEZONE
TZID:Australia/Sydney
BEGIN:STANDARD
TZOFFSETFROM:+1100
TZOFFSETTO:+1000
TZNAME:AEST
DTSTART:20160402T160000
END:STANDARD
BEGIN:DAYLIGHT
TZOFFSETFROM:+1000
TZOFFSETTO:+1100
TZNAME:AEDT
DTSTART:20161001T160000
END:DAYLIGHT
BEGIN:STANDARD
TZOFFSETFROM:+1100
TZOFFSETTO:+1000
TZNAME:AEST
DTSTART:20170401T160000
END:STANDARD
BEGIN:DAYLIGHT
TZOFFSETFROM:+1000
TZOFFSETTO:+1100
TZNAME:AEDT
DTSTART:20170930T160000
END:DAYLIGHT
BEGIN:STANDARD
TZOFFSETFROM:+1100
TZOFFSETTO:+1000
TZNAME:AEST
DTSTART:20180331T160000
END:STANDARD
BEGIN:DAYLIGHT
TZOFFSETFROM:+1000
TZOFFSETTO:+1100
TZNAME:AEDT
DTSTART:20181006T160000
END:DAYLIGHT
END:VTIMEZONE
BEGIN:VEVENT
DTSTART;TZID=Australia/Sydney:20171104T090000
DTEND;TZID=Australia/Sydney:20171105T173000
DTSTAMP:20260424T222029
CREATED:20170930T043641Z
LAST-MODIFIED:20170930T054853Z
UID:1581-1509786000-1509903000@chinesemedicineeducation.com
SUMMARY:Neoclassical Pulse Diagnosis: Extraordinary Vessels & The Six Channels - Thomas Richardson
DESCRIPTION:Neoclassical Pulse Diagnosis is a powerful system of pulse diagnosis that is deeply rooted in the classics (especially the Mai Jing). \nThis system has also been called an ‘acupuncturist’s pulse diagnosis’\, as it can accurately diagnose channel imbalances.  Once proficient in this system\, the pulse can guide one immediately to a specific acupuncture point that will not only bring balance to the pulse\, but also instantly shift the patient’s experience – whether by decreasing pain\, increasing range of motion\, changing their internal state of consciousness\, or bringing about other noticeable shifts. \nPractitioners can spend a lifetime dedicated to the craft of pulse diagnosis. This workshop will teach you an easy to learn system that leads to a much more precise diagnosis with instant clinical results. \nNeoclassical Pulse Diagnosis is based on an understanding of complementary positions and spacial correlations of the individual pulse positions. It allows one to diagnosis channel involvements (Extraordinary Vessels\, 6-channel) as well as various temporal cycles (ying qi and wei qi cycles) and five-element imbalances. \nThis method was developed by Dr. William Morris and it is a systematic integration of classical anatomical approach to pulse taking along with channel-based methods of assessment. It is a system that is heavily influenced by the Ding Family system of pulse diagnosis. \n13 CPD Points
URL:https://chinesemedicineeducation.com/event/neoclassical-pulse-diagnosis-extraordinary-vessels-the-six-channels-thomas-richardson/
LOCATION:Endeavour College of Natural Health\, 815-825 George St\, Sydney\, NSW\, 2000\, Australia
ORGANIZER;CN="China Books Sydney":MAILTO:info@chinabookssydney.com.au
END:VEVENT
BEGIN:VEVENT
DTSTART;TZID=Australia/Sydney:20171022T090000
DTEND;TZID=Australia/Sydney:20171022T130000
DTSTAMP:20260424T222029
CREATED:20170930T041147Z
LAST-MODIFIED:20170930T054957Z
UID:1573-1508662800-1508677200@chinesemedicineeducation.com
SUMMARY:Better IVF Outcomes with Chinese Medicine - Peter Kington
DESCRIPTION:Does your mind boggle when you encounter clients who know about IVF than you? Do you ever wonder what drives an IVF doctor to choose one protocol over another? Do you get lost in all the drug names\, and do you ever wonder how you can make sense of everything to help your clients get the best out of their IVF experience? \nThis seminar will help you to understand what IVF is and how you can tailor your treatments to support your clients therapy\, which not losing sight of your Chinese medicine principles and practice. \nWhat Will Be Covered In This Clinically Focused Seminar\n\nAnatomy and physiology of female reproductive endocrinology in Western and Chinese Medicine\nIVF overview – what does IVF seek to do? What are its strength and weaknesses? How can I help an IVF patient?\nIVF drugs – what are they designed to do and how can these help or hinder a womans fertility\nWhat are the different types of IVF – getting your head around how it works and the differences\nUnderstanding the three most common causes of female infertility – ‘unknown infertility’\, ‘age-related infertility’ and ‘anovulatory infertility’ (including PCO/PCOS)\nTreatment strategies by prescribing the best ChinaMed or BlackPearl formulas to improve fertility and IVF outcomes\nAre herbs safe in IVF? – a reasoned and sensible approach for your clients\nClinical application\n\n4 CPD Points
URL:https://chinesemedicineeducation.com/event/better-ivf-outcomes-with-chinese-medicine-peter-kington/
LOCATION:Endeavour College of Natural Health\, 815-825 George St\, Sydney\, NSW\, 2000\, Australia
ORGANIZER;CN="China Books Sydney":MAILTO:info@chinabookssydney.com.au
END:VEVENT
BEGIN:VEVENT
DTSTART;TZID=Australia/Sydney:20171007T093000
DTEND;TZID=Australia/Sydney:20171009T173000
DTSTAMP:20260424T222029
CREATED:20170930T025148Z
LAST-MODIFIED:20170930T054934Z
UID:1560-1507368600-1507570200@chinesemedicineeducation.com
SUMMARY:Transformational Acupuncture - Alex Joannou
DESCRIPTION:“Mental illness is rapidly becoming the number one medical problem of the 21st Century. One million Australians suffer with depression and a further two million with anxiety”. \nTransformational Acupuncture: The Treatment of Anxiety and Depression with Acupuncture\n3-Day Workshop with Dr Alex Joannou\nAfter 12 years practicing medical acupuncture\, Dr Joannou trained in Esoteric Acupuncture under Dr Mikio Sankey from 2010. He has developed this into  Transformational Acupuncture\, a practical system\, working on the level of Mind\, Body and Spirit\, helping a wide range of medical problems including mental health and chronic pain. Dr Joannou is passionate about teaching practitioners to gain optimal results with their clients. \nCourse Outline\nIntroductory – Level 1 \nMental Illness is the number one medical problem of the 21st Century. One million Australians suffer with depression and a further two million with anxiety. \nDuring this level 1 training you will learn to: \n– Safely improve symptoms of depression and anxiety in patients with clinically diagnosed Major Depression Generalised Anxiety disorder\, Panic Disorder and Post-Traumatic Stress Disorder using Transformational Acupuncture; \n– Safely integrate acupuncture treatment into the medical framework and learn to communicate effectively with GP’s; \n– Learn how to assess the severity of mental health conditions\, understand the classes of medications currently used as treatment and learn to identify red flags and know the referral pathways in that situation; \n– Understand how Transformational Acupuncture differs from Traditional Chinese Medicine and identify the most effective method to treat presenting conditions; \n– Expand your acupuncture skills\, learning the power of needle point combinations \nDr Joannou has developed this easy-to-learn method over a number of years. He has documented significant benefits to his patients using these methods and is offering to share his knowledge and techniques with other acupuncture practitioners. \nThis is a very practical workshop with the majority delivered as hands-on experience. Acupuncturists will be giving and receiving treatments during this training session. \nTransformational Acupuncture takes acupuncture into the 21st century working on the level of mind\, body and spirit. \n19 CPD Points
URL:https://chinesemedicineeducation.com/event/transformation-acupuncture-with-alex-joannou/
LOCATION:Endeavour College of Natural Health\, 815-825 George St\, Sydney\, NSW\, 2000\, Australia
ORGANIZER;CN="China Books Sydney":MAILTO:info@chinabookssydney.com.au
END:VEVENT
END:VCALENDAR