BEGIN:VCALENDAR
VERSION:2.0
PRODID:-//Chinese Medicine Education &amp; Supplies - ECPv6.15.20//NONSGML v1.0//EN
CALSCALE:GREGORIAN
METHOD:PUBLISH
X-WR-CALNAME:Chinese Medicine Education &amp; Supplies
X-ORIGINAL-URL:https://chinesemedicineeducation.com
X-WR-CALDESC:Events for Chinese Medicine Education &amp; Supplies
REFRESH-INTERVAL;VALUE=DURATION:PT1H
X-Robots-Tag:noindex
X-PUBLISHED-TTL:PT1H
BEGIN:VTIMEZONE
TZID:Australia/Sydney
BEGIN:STANDARD
TZOFFSETFROM:+1100
TZOFFSETTO:+1000
TZNAME:AEST
DTSTART:20160402T160000
END:STANDARD
BEGIN:DAYLIGHT
TZOFFSETFROM:+1000
TZOFFSETTO:+1100
TZNAME:AEDT
DTSTART:20161001T160000
END:DAYLIGHT
BEGIN:STANDARD
TZOFFSETFROM:+1100
TZOFFSETTO:+1000
TZNAME:AEST
DTSTART:20170401T160000
END:STANDARD
BEGIN:DAYLIGHT
TZOFFSETFROM:+1000
TZOFFSETTO:+1100
TZNAME:AEDT
DTSTART:20170930T160000
END:DAYLIGHT
BEGIN:STANDARD
TZOFFSETFROM:+1100
TZOFFSETTO:+1000
TZNAME:AEST
DTSTART:20180331T160000
END:STANDARD
BEGIN:DAYLIGHT
TZOFFSETFROM:+1000
TZOFFSETTO:+1100
TZNAME:AEDT
DTSTART:20181006T160000
END:DAYLIGHT
END:VTIMEZONE
BEGIN:VEVENT
DTSTART;TZID=Australia/Sydney:20171007T093000
DTEND;TZID=Australia/Sydney:20171009T173000
DTSTAMP:20260424T140750
CREATED:20170930T025148Z
LAST-MODIFIED:20170930T054934Z
UID:1560-1507368600-1507570200@chinesemedicineeducation.com
SUMMARY:Transformational Acupuncture - Alex Joannou
DESCRIPTION:“Mental illness is rapidly becoming the number one medical problem of the 21st Century. One million Australians suffer with depression and a further two million with anxiety”. \nTransformational Acupuncture: The Treatment of Anxiety and Depression with Acupuncture\n3-Day Workshop with Dr Alex Joannou\nAfter 12 years practicing medical acupuncture\, Dr Joannou trained in Esoteric Acupuncture under Dr Mikio Sankey from 2010. He has developed this into  Transformational Acupuncture\, a practical system\, working on the level of Mind\, Body and Spirit\, helping a wide range of medical problems including mental health and chronic pain. Dr Joannou is passionate about teaching practitioners to gain optimal results with their clients. \nCourse Outline\nIntroductory – Level 1 \nMental Illness is the number one medical problem of the 21st Century. One million Australians suffer with depression and a further two million with anxiety. \nDuring this level 1 training you will learn to: \n– Safely improve symptoms of depression and anxiety in patients with clinically diagnosed Major Depression Generalised Anxiety disorder\, Panic Disorder and Post-Traumatic Stress Disorder using Transformational Acupuncture; \n– Safely integrate acupuncture treatment into the medical framework and learn to communicate effectively with GP’s; \n– Learn how to assess the severity of mental health conditions\, understand the classes of medications currently used as treatment and learn to identify red flags and know the referral pathways in that situation; \n– Understand how Transformational Acupuncture differs from Traditional Chinese Medicine and identify the most effective method to treat presenting conditions; \n– Expand your acupuncture skills\, learning the power of needle point combinations \nDr Joannou has developed this easy-to-learn method over a number of years. He has documented significant benefits to his patients using these methods and is offering to share his knowledge and techniques with other acupuncture practitioners. \nThis is a very practical workshop with the majority delivered as hands-on experience. Acupuncturists will be giving and receiving treatments during this training session. \nTransformational Acupuncture takes acupuncture into the 21st century working on the level of mind\, body and spirit. \n19 CPD Points
URL:https://chinesemedicineeducation.com/event/transformation-acupuncture-with-alex-joannou/
LOCATION:Endeavour College of Natural Health\, 815-825 George St\, Sydney\, NSW\, 2000\, Australia
ORGANIZER;CN="China Books Sydney":MAILTO:info@chinabookssydney.com.au
END:VEVENT
END:VCALENDAR