BEGIN:VCALENDAR
VERSION:2.0
PRODID:-//Chinese Medicine Education &amp; Supplies - ECPv6.15.20//NONSGML v1.0//EN
CALSCALE:GREGORIAN
METHOD:PUBLISH
X-WR-CALNAME:Chinese Medicine Education &amp; Supplies
X-ORIGINAL-URL:https://chinesemedicineeducation.com
X-WR-CALDESC:Events for Chinese Medicine Education &amp; Supplies
REFRESH-INTERVAL;VALUE=DURATION:PT1H
X-Robots-Tag:noindex
X-PUBLISHED-TTL:PT1H
BEGIN:VTIMEZONE
TZID:Australia/Sydney
BEGIN:STANDARD
TZOFFSETFROM:+1100
TZOFFSETTO:+1000
TZNAME:AEST
DTSTART:20240406T160000
END:STANDARD
BEGIN:DAYLIGHT
TZOFFSETFROM:+1000
TZOFFSETTO:+1100
TZNAME:AEDT
DTSTART:20241005T160000
END:DAYLIGHT
BEGIN:STANDARD
TZOFFSETFROM:+1100
TZOFFSETTO:+1000
TZNAME:AEST
DTSTART:20250405T160000
END:STANDARD
BEGIN:DAYLIGHT
TZOFFSETFROM:+1000
TZOFFSETTO:+1100
TZNAME:AEDT
DTSTART:20251004T160000
END:DAYLIGHT
BEGIN:STANDARD
TZOFFSETFROM:+1100
TZOFFSETTO:+1000
TZNAME:AEST
DTSTART:20260404T160000
END:STANDARD
BEGIN:DAYLIGHT
TZOFFSETFROM:+1000
TZOFFSETTO:+1100
TZNAME:AEDT
DTSTART:20261003T160000
END:DAYLIGHT
END:VTIMEZONE
BEGIN:VEVENT
DTSTART;VALUE=DATE:20251019
DTEND;VALUE=DATE:20251020
DTSTAMP:20260424T174846
CREATED:20250819T054259Z
LAST-MODIFIED:20250923T031852Z
UID:31129-1760832000-1760918399@chinesemedicineeducation.com
SUMMARY:Mastering Scalp Acupuncture for Fast Clinical Results: One-Day Intensive with Daniel Deng
DESCRIPTION:REGISTER HERE \nWORKSHOP OVERVIEW\nMastery of Neijing Jing Qi Shen: Deng’s Scalp Acupuncture Theory\, Mapping & Clinical Application \nMost scalp acupuncture systems are highly complex and take a long time to master—but in this one-day workshop\, Dr. Daniel Deng simplifies the process so you can start using powerful techniques in your clinic immediately. His innovative scalp acupuncture system is unique to his extensive clinical experience\, grounded in classical NeiJing wisdom and refined for modern clinical application. This training is designed for busy practitioners who want powerful\, versatile techniques they can use straight away. \nYou’ll discover how to locate and apply specialised scalp points using Deng’s unique mapping system\, rooted in point name meaning\, Yin–Yang balance\, Qi and Blood circulation\, and meridian theory. Practical methods such as needling “Three Flowers Converging at the Apex” and “Five Qi Returning to the Source” will be demonstrated and practiced\, giving you hands-on confidence to apply them immediately. \nThrough lecture\, guided point location\, supervised needling practice\, and real case studies\, you’ll gain the skills to treat a wide range of conditions—including neurological disorders\, emotional imbalances\, pain syndromes\, and internal conditions. The workshop also covers pulse diagnosis for scalp acupuncture\, safety considerations\, and how to integrate these methods seamlessly into your current treatments. \nBy the end of the day\, you’ll leave with: \n\nA clear scalp mapping system you can rely on\nPractical needling and moxibustion skills ready for clinic use\nTools to achieve faster and more noticeable patient results\nConfidence to expand your treatment scope for challenging conditions\n\nThis workshop is an opportunity to enhance your practice with advanced yet accessible techniques—helping you deliver outstanding outcomes that grow your reputation and patient referrals. \n \n\n					WORKSHOP TOPICS & OUTLINE\n  \nHistorical Background and Foundations  \n\nIntroduction to Scalp Acupuncture Systems.\nHistorical of Jing qi Shen Scalp Acupuncture.\nTheoretical Basis: TCM Theory of YinYang\, Qi and Blood\, Jing and Shen\, Channels and ZangFu.\nSpecial Acupionts connotation introduction.\nSurface Landmarks of the Skull and Sutures.\nSurface Anatomy\, Vascular and Nerve Structures.\n\n  \nDiagnosis Skill and Treatment Principles \n\nTCM Pulse Diagnosis for Scalp Acupuncture Clinical Application.\nPoint Location and Palpation and inspection Mastery.\nStandard Measurement Methods and Proportional Cun Systems for the Scalp.\nPalpation and inspection to identifying abnormalities.\n\n  \nBody Parts Correlates and Mapping \n\nDetailed Study of the Standard Deng’s Scalp Acupuncture.\nHolographic System of the Head introduction.\n\n  \nNeedling and Moxa Techniques and Manipulation \n  \nClinical Applications and Treatment Management \n\nNeurological Conditions\, Emotional Imbalances\, Pain and Internal Disorders.\n\n  \nSafety\, Contraindications and Special Considerations \n  \nCase Studies and Practical Integration \n\nStudent Case Presentations and Problem solving.\nExtensive Supervised Practical Sessions: Palpation\, Point Location\, Needle Insertion\, Manipulation Technique on peers.\n\n \nREGISTER HERE \n \nABOUT DR DANIEL DENG\n \nDr. Daniel Deng is the Director of Acupuncture & Herbs Daniel Deng & Associates and a highly respected practitioner and educator with nearly 30 years of clinical experience in China and Australia. He holds a PhD in Acupuncture\, a Master of Medicine in Acupuncture & Massage\, and a Bachelor of Medicine in Acupuncture & Chinese Medicine. \nGrowing up in a family of Traditional Chinese Medicine practitioners\, Daniel was inspired from a young age to help people through acupuncture and Chinese medicine. Over the years\, he has developed his own innovative clinical style\, Deng Style Acupuncture & Pulse\, integrating classical theories (NeiJing\, NanJing)\, Qi Gong\, and Daoist philosophy with practical\, results-driven techniques. His methods include specialised approaches such as the Yin & Yang Pulse Balance Needle Method\, Points Array System\, and ShenQue Three Axes Balance Needle Method. \nDaniel is passionate about teaching and helping practitioners achieve better clinical outcomes. He lectures at UWS and SITCM and conducts masterclasses\, seminars\, and workshops throughout Australia. He has received awards for his clinical research\, spoken at international acupuncture conferences\, and holds leadership roles including Vice President of the NSW Association of Chinese Medicine and Chair of its Academic Committee. \n“Let people who receive acupuncture\, appreciate it. Let those who practice it\, enjoy it. Let those who learn it\, love it.” \nREGISTER HERE \n \n\n					DETAILS\nDate: 19th October 2025 \nTimes: 9am – 5pm \nVenue: SITCM (Sydney Institute of Traditional Chinese Medicine) – Level 6\, 25 Dixon St\, Haymarket \nCPD: 6.5 CPD Points \nIncluded: Notes\, Morning Tea\, Afternoon Tea \nEARLY BIRD PRICING (ends 10th October 2025) \nPractitioner: $695 \nFull Time TCM Student: $595 \nREGULAR PRICING \nPractitioner: $895 \nFull Time TCM Student: $795 \nREGISTER HERE \nTerms and Conditions\n*Early Bird: Full payment is required 4 weeks prior to the start of the Seminar and Workshop\n*Registrations cancelled up to one week prior to the seminar will be refunded less 20%. We regret that refunds are not otherwise possible.
URL:https://chinesemedicineeducation.com/event/mastering-scalp-acupuncture-for-fast-clinical-results-one-day-intensive-with-daniel-deng/
LOCATION:Sydney Institute of Traditional Chinese Medicine (SITCM) – 502/25-29 Dixon St\, Haymarket NSW 2000
ATTACH;FMTTYPE=image/png:https://chinesemedicineeducation.com/wp-content/uploads/2025/08/DENG-2025-event.png
ORGANIZER;CN="China Books Sydney":MAILTO:info@chinabookssydney.com.au
END:VEVENT
END:VCALENDAR