BEGIN:VCALENDAR
VERSION:2.0
PRODID:-//Chinese Medicine Education &amp; Supplies - ECPv6.15.20//NONSGML v1.0//EN
CALSCALE:GREGORIAN
METHOD:PUBLISH
X-WR-CALNAME:Chinese Medicine Education &amp; Supplies
X-ORIGINAL-URL:https://chinesemedicineeducation.com
X-WR-CALDESC:Events for Chinese Medicine Education &amp; Supplies
REFRESH-INTERVAL;VALUE=DURATION:PT1H
X-Robots-Tag:noindex
X-PUBLISHED-TTL:PT1H
BEGIN:VTIMEZONE
TZID:Australia/Sydney
BEGIN:STANDARD
TZOFFSETFROM:+1100
TZOFFSETTO:+1000
TZNAME:AEST
DTSTART:20240406T160000
END:STANDARD
BEGIN:DAYLIGHT
TZOFFSETFROM:+1000
TZOFFSETTO:+1100
TZNAME:AEDT
DTSTART:20241005T160000
END:DAYLIGHT
BEGIN:STANDARD
TZOFFSETFROM:+1100
TZOFFSETTO:+1000
TZNAME:AEST
DTSTART:20250405T160000
END:STANDARD
BEGIN:DAYLIGHT
TZOFFSETFROM:+1000
TZOFFSETTO:+1100
TZNAME:AEDT
DTSTART:20251004T160000
END:DAYLIGHT
BEGIN:STANDARD
TZOFFSETFROM:+1100
TZOFFSETTO:+1000
TZNAME:AEST
DTSTART:20260404T160000
END:STANDARD
BEGIN:DAYLIGHT
TZOFFSETFROM:+1000
TZOFFSETTO:+1100
TZNAME:AEDT
DTSTART:20261003T160000
END:DAYLIGHT
END:VTIMEZONE
BEGIN:VEVENT
DTSTART;TZID=Australia/Sydney:20250207T093000
DTEND;TZID=Australia/Sydney:20250209T173000
DTSTAMP:20260425T070426
CREATED:20240703T063639Z
LAST-MODIFIED:20250120T233759Z
UID:27917-1738920600-1739122200@chinesemedicineeducation.com
SUMMARY:Facial Acupuncture Certification: Advanced Applications of Anti-Aging & Neuromuscular Techniques with Michelle Gellis
DESCRIPTION:REGISTER HERE \nCERTIFICATION WORKSHOP OVERVIEW\nJoin Michelle Gellis AP acupuncturist\, and internationally renowned author\, for a comprehensive three-day in-person workshop that goes beyond cosmetic acupuncture. This advanced certification course combines cutting-edge cosmetic and neuromuscular acupuncture techniques\, microneedling\, facial cupping\, gua sha\, and holistic facial rejuvenation. \nTo get the most out of your time with an expert like Michelle\, every participant will recieive complimentary access to the recorded lectures and demonstrations from the 2024 event (sold seperately for $810\, plus you’ll get the extra 10 CPD points). \nThis hybrid format allows students to listen to the recorded lectures ahead of time at their own pace and then show up for three full days of demonstrations\, review and hands-on practice. At the end you will be presented with a certificate in recognition of your advanced training with Michelle. \nThere are no pre-requisites to take this certification\, other than being a registered acupuncturist or student. \n \nHIGHLIGHTS \nAdvanced Techniques: Learn protocols for anti-aging facial acupuncture\, microneedling\, facial cupping\, and gua sha. \nNeuromuscular Focus: Treat facial conditions such as Bell’s palsy\, TMJD\, stroke recovery and more through specialised acupuncture techniques targeting motor points and facial muscles. \nUpdated Content for 2025: New material on neuromuscular applications and advanced aesthetic techniques. \nHands-On Practice: Engage in lectures\, demonstrations\, and practical application to enhance your skills and confidence. \nWHAT YOU’LL LEARN \n– Holistic techniques to lift\, tone\, and rejuvenate the face naturally. \n– Stimulate collagen production\, improve circulation\, and address skin conditions such as acne and scars. \n– Neuromuscular acupuncture protocols to support muscle tone and function. \n– Facial cupping and gua sha for lymphatic drainage\, reducing puffiness\, and improving skin texture. \n– How to design comprehensive treatment plans integrating aesthetic and therapeutic approaches. \nHOW YOU’LL BE ABLE HELP YOUR PATIENTS \n– Treat neuromuscular conditions like Bell’s palsy\, TMJD\, stroke and more \n– Erase fine lines\, deeper wrinkles diminished \n– Lift sagging eye lids\, reduce bags/circles \n– Firm jowls and minimize double chin \n– Improve muscle tone and increase collagen production \n– Eliminate puffiness by improving metabolism and eliminating excess fluids \n– Improve hormonal balance\, benefits acne \n– Increase circulation of blood and lymph to the face and improves facial color \n– Moisturize the skin and tighten pores \n– Significantly reduce the appearance of scars and age spots \n– Slow the aging process from within \n– Reduce stress evident in the face \n– Promote overall health and well being \n\n					WHAT YOU WILL GET WHEN YOU BOOK YOUR TICKET \n– 3 days of hands-on facial acupuncture training with industry expert Michelle Gellis. \n– Access to the recorded lectures and demonstrations from the 2024 event (normally sells for $810). This material is a prerequisite to review before the event so that you can easily follow along and get the most out of the practical training. You will have 5 years unlimited access to this. \n– A pdf copy of the neuromuscular protocols to review. \n– A pdf copy of Michelle’s microneedling ebook. \n– A certificate to recognise your studies of advanced facial acupuncture techniques and strategies\, boosting your credibility. \n– 19.5 CPD points for the live event\, plus 10 CPD for the prerequisite online course (complete the quiz at any time within 5 years to get your certificate). \n \nREGISTER HERE \n \nCOURSE SCHEDULE\n\n					DAY ONE\n\n\nMORNING SESSION: \nReview \n\n\nReview of Facial Acupuncture Recorded Lectures including Protocols-Points-Contraindications\nReview of needle techniques\, insertion angles\, threading\, and point selection based on skin type and condition.\nDiscussion Q&A\n\nDemonstration \n\nLive demonstration of a full facial acupuncture treatment and techniques by Michelle\nParticipants practice facial acupuncture techniques on each other under supervision.\n\nHands-on Practice \n\nSpecific focus will be on developing precision and confidence in needle placement.\nSupervision and assessment is instrumental to better treatment and safety outcomes\, for example neck and specific intramuscular and fascia needling points.\n\n\n\n\nAFTERNOON SESSION: \nHands-On Practice Continues \n\nParticipants practice facial acupuncture techniques on each other under supervision.\nSpecific focus will be on developing precision and confidence in needle placement. Supervision and assessment is instrumental to better treatment and safety outcomes\, for example neck and specific intramuscular and fascia needling points.\n\nMicroneedling Demonstration\n \n\nIntroduction to microneedling concepts and benefits for skin rejuvenation.\nLive demonstration of microneedling techniques\, including depth\, pressure\, and aftercare protocols.\nMICRONEEDLING Demonstration only: Micropen purchase is optional \nHow to use the Aculift micropen and for what conditions\nWhere to needle on the face and how for the best effect\nUsing the correct settings for what conditions – frequency and intensity of the pen (effects)\nWhat to do and what not to do\nProducts which support microneedle pen use\n\nPurchase the Aculift Micropen System   \n  \n\n\n\n					DAY TWO\nMORNING SESSION: \nCupping and Gua Sha Lecture \n\nIn-depth lecture on the history\, theory\, and benefits of cupping and gua sha in cosmetic acupuncture.\nOverview of various cupping and gua sha techniques for greatest efficacy along with the best tools used for treatment.\n\nDemonstration \n\n\nLive demonstration of cupping and gua sha applications on the face and neck.\nDiscussion on integrating these techniques with facial acupuncture for enhanced results.\n\n\n\nAFTERNOON SESSION: \nHands-On Practice \n\nParticipants practice cupping and gua sha techniques in pairs or threes\, with guidance from instructors.\nFocus on assessing skin type and tailoring techniques to individual patient needs.\n\nAdvanced Techniques Lecture and Demo \n\nIntroduction to advanced facial rejuvenation techniques for difficult to treat conditions such as deeper wrinkles\, neck lines and jowls.\nFacial Motor points\, advanced threading and submuscular needling will be presented.\nLive demonstration of advanced techniques\n\n\n \n\n					DAY THREE\nMORNING SESSION \nNeuromuscular Techniques (New Material) \n\nNeuro Techniques Lecture\nComprehensive lecture on the principles of neuromuscular acupuncture and its applications for treating conditions such as Bell’s palsy\, TMJ\, ptosis\, etc.\nDiscussion of the nervous system’s role in facial muscle tone and expression.\n\nDemonstration \n\nLive demonstration of neuromuscular techniques\, including scalp acupuncture.\n\nAFTERNOON SESSION: \nHands-On Practice \n\nParticipants practice neuromuscular techniques alongside advanced facial acupuncture techniques. Supervision.\nEmphasis on integrating techniques learned throughout the course for a holistic treatment approach.\n\n \n \nREGISTER HERE \nAbout Michelle Gellis (AP\, LAc\, MAc\, DiplAc)\n \nMichelle Gellis is a Licensed Acupuncture Physician\, and An Author. Currently on Doctoral Faculty at Yo San University (Los Angeles) she is former Faculty and Clinic Supervisor at the Maryland University of Integrative Health (2005-2019). Michelle teaches facial acupuncture classes internationally and has been published in prominent acupuncture publications such as the Journal of Chinese Medicine. Throughout her career Michelle has been sought out to lecture by numerous prestigious national and international organizations such as Pacific Symposium\, The Florida State Oriental Medical Association\, The Acupuncture Association of Chartered Physiotherapists (UK)\, China Books (AU)\, and American Acupuncture Council. Michelle’s brings a vibrant teaching style and breadth of knowledge of facial and cosmetic acupuncture encompassing safety\, ethics\, theory\, history\, point location\, and unique precision needling techniques. Her upcoming book: Treating the Face: A Comprehensive Guide for Acupuncturists\, and Health Professionals will be released in October 2024. Her classes can be found at FacialAcupunctureclasses.com \n\n					DETAILS\nThere are no pre-requisites to take this certification\, other than being a registered acupuncturist or student. \nDate: Friday 7th of February 2025 – Sunday 9th February 2025 \nTime: 9am – 5.30pm daily \nVenue: Vibe Hotel\, 111 Goulburn Street SYDNEY \nCPD: 29.5 total CPD – 19.5 live CPD + 10 online CPD \nIncluded: Notes\, Morning Tea\, Afternoon Tea \nEARLY BIRD SPECIAL PRICE (offer ends 10/01/2025 extended to 27th January 2025)  \nPractitioner: $1700 \nStudent (Full Time – Undergraduate): $1500 \nREGULAR PRICING \nPractitioner: $2000 \nStudent (Full Time – Undergraduate): $1800 \nTerms and Conditions\n*Early Bird: Full payment is required 4 weeks prior to the start of the Seminar and Workshop. *Registrations cancelled up to two weeks prior to the seminar will be refunded less 20% (admin fee). We regret that refunds are not otherwise possible. *Access to the online course will be granted upon full payment of your ticket. \nRECORDING\nIf you wish to purchase for the recording only\, please contact us to register your name. We will inform you that it will be available to purchase once it is ready. Please allow 3-4 weeks after the live seminar end date for the recording to be released. \nRecording (Revisit) Access Fee for live participants and recording purchase – 5 years: $99 \nREGISTER HERE
URL:https://chinesemedicineeducation.com/event/advanced-facial-acupuncture-certification-michelle-gellis/
LOCATION:Vibe Hotel\, 111 Goulburn Street\, Sydney\, NSW\, 2000\, Australia
ATTACH;FMTTYPE=image/png:https://chinesemedicineeducation.com/wp-content/uploads/2024/07/Michelle-Gellis-AFAC-Course.png
ORGANIZER;CN="China Books Sydney":MAILTO:info@chinabookssydney.com.au
END:VEVENT
END:VCALENDAR