BEGIN:VCALENDAR
VERSION:2.0
PRODID:-//Chinese Medicine Education &amp; Supplies - ECPv6.15.20//NONSGML v1.0//EN
CALSCALE:GREGORIAN
METHOD:PUBLISH
X-ORIGINAL-URL:https://chinesemedicineeducation.com
X-WR-CALDESC:Events for Chinese Medicine Education &amp; Supplies
REFRESH-INTERVAL;VALUE=DURATION:PT1H
X-Robots-Tag:noindex
X-PUBLISHED-TTL:PT1H
BEGIN:VTIMEZONE
TZID:Australia/Sydney
BEGIN:STANDARD
TZOFFSETFROM:+1100
TZOFFSETTO:+1000
TZNAME:AEST
DTSTART:20230401T160000
END:STANDARD
BEGIN:DAYLIGHT
TZOFFSETFROM:+1000
TZOFFSETTO:+1100
TZNAME:AEDT
DTSTART:20230930T160000
END:DAYLIGHT
BEGIN:STANDARD
TZOFFSETFROM:+1100
TZOFFSETTO:+1000
TZNAME:AEST
DTSTART:20240406T160000
END:STANDARD
BEGIN:DAYLIGHT
TZOFFSETFROM:+1000
TZOFFSETTO:+1100
TZNAME:AEDT
DTSTART:20241005T160000
END:DAYLIGHT
BEGIN:STANDARD
TZOFFSETFROM:+1100
TZOFFSETTO:+1000
TZNAME:AEST
DTSTART:20250405T160000
END:STANDARD
BEGIN:DAYLIGHT
TZOFFSETFROM:+1000
TZOFFSETTO:+1100
TZNAME:AEDT
DTSTART:20251004T160000
END:DAYLIGHT
END:VTIMEZONE
BEGIN:VEVENT
DTSTART;TZID=Australia/Sydney:20240526T090000
DTEND;TZID=Australia/Sydney:20240526T120000
DTSTAMP:20260425T214801
CREATED:20240311T015027Z
LAST-MODIFIED:20240311T020851Z
UID:26855-1716714000-1716724800@chinesemedicineeducation.com
SUMMARY:LIVE ZOOM WEBINAR: Using the Chinese Medicine Facial Diagnosis Age Map to Determine Past and Future Traumas with CT Holman
DESCRIPTION:Register Now\n\nPresenting CT Holman\, author of Treating Emotional Trauma with Chinese Medicine: Integrated Diagnostic and Treatment Strategies\n\n\nRegister Now\nWebinar Description\nDiscover the hidden knowledge on your face. Each facial feature and marking relates to the emotional and physical state of the body. Facial Diagnosis provides great insight and when applied with acupuncture can bring miraculous change. In this course\, CT Holman teaches the use of the Facial Diagnosis Age Map. Participants learn how to determine when Jing (essence) was compromised for a patient and when the patient might experience a trauma in the future. CT will provide several patient pictures to illustrate the use of this effective diagnostic method. Case studies and acupuncture prescriptions will be included. \nWhat You Will Learn\n\nLearn the facial age map and how to use it in Chinese Medicine Diagnosis\nUnderstand how to identify past\, current\, and future traumas using the facial age map.\nLearn point prescriptions for treating the various emotional\, behavioral\, and physical symptoms caused by emotional trauma.\n\nCourse Outline\n\nIntroduction to Facial Diagnosis (1st Hour):\n\nExplore the fundamentals of facial diagnosis and its relevance in understanding emotional trauma.\nUncover the intricacies of the facial age map and its practical applications in therapeutic settings.\nDiscuss the historical context and development of facial diagnosis techniques.\n\n\nReading the Facial Age Map (2nd Hour):\n\nDelve into the nuances of interpreting the facial age map to identify past\, current\, and potential future traumas.\nLearn how specific facial features serve as indicators of emotional and psychological states.\nPractical exercises to develop proficiency in reading and understanding the subtle signals presented by the facial age map.\n\n\nCase Studies and Point Prescriptions (3rd Hour):\n\nEngage in real-world case studies to apply theoretical knowledge in practical scenarios.\nExplore point prescriptions for treating a spectrum of emotional\, behavioral\, and physical symptoms stemming from emotional trauma.\nDiscuss ethical considerations and best practices in incorporating facial diagnosis into a holistic healing approach.\nIntegration and Practical Application (Throughout):\n\nEmphasize the integration of facial diagnosis techniques into a broader therapeutic framework.\nInteractive sessions for participants to practice reading facial age maps and formulating point prescriptions.\nGuidance on incorporating facial diagnosis seamlessly into existing practices or creating specialized treatment plans.\n\n\n\n\n\nAbout CT Holman\n \nCT Holman practices Chinese medicine in Salem\, Oregon. His fulltime clinic was founded in 2001. CT wrote the textbooks: Treating Emotional Trauma with Chinese Medicine and Shamanism in Chinese Medicine both published by Singing Dragon. He teaches courses internationally\, operates a mentorship program\, and is the Director of Development for the Lotus Institute of Lillian Pearl Bridges. He studied in China (1999\, 2001\, and 2003) and has extensive post-graduate education with several leading teachers in the field. \nCT has taught in Sweden\, Germany\, Mexico\, Denmark\, Australia\, and the US. He teaches at the Oregon College of Chinese Medicine for its doctoral program\, mentors masters and doctoral students\, and has been published in the Journal of Chinese Medicine. CT utilises drumming with acupuncture treatments and has recently recorded and released a CD\, Resonating Vitality – Chinese Medicine Drum Treatments. \n\nDetails\n\nDate: Sunday\, 26th of May 2024\nTime: 9am – 12pm (AEST)\nPricing: $245 for Practitioners\, $210 for Students (FULL TIME Undergraduates)\nCPD: 3 CPD Points\nNotes: Included\nVENUE: LIVE ONLINE COURSE- ZOOM LINK WILL BE PROVIDED CLOSER TO THE DATE\n\n  \nRegister Now\nThis is a live webinar conducted via the ZOOM VIDEO CONFERENCING Platform.  \nDisclaimer before registering for the Live Webinar\nPlease check the relevant date/time zone to your location in accordance with the date and time provided above. CME does not hold any responsibility for your non-attendance to the live event. Live webinars are best experienced via PC/desktop/laptop and tablets. CME expects webinar registrants to be familiar with Zoom videoconferencing software and are not responsible for any non-attendance due to technical or non-technical issues arising from the end of the registrant.
URL:https://chinesemedicineeducation.com/event/live-zoom-webinar-using-the-chinese-medicine-facial-diagnosis-age-map-to-determine-past-and-future-traumas/
LOCATION:Zoom Webinar
ATTACH;FMTTYPE=image/png:https://chinesemedicineeducation.com/wp-content/uploads/2024/03/Copy-of-UCMEAM-Course-1.png
ORGANIZER;CN="Chinese Medicine Education":MAILTO:info@chinesemedicineeducation.com
END:VEVENT
END:VCALENDAR